BEGIN:VCALENDAR
VERSION:2.0
PRODID:-//Tukios.com/
BEGIN:VEVENT
UID:36a4b201-8b8e-4528-9885-ada74c10fc10@www.yoderculpfuneralhome.com
DTSTAMP:20260420T194741Z
DTSTART:20260516T140000Z
DTEND:20260516T150000Z
SUMMARY:Scattering
DESCRIPTION:
URL:https://www.yoderculpfuneralhome.com/obituaries/ronald-abe-bernstein
LOCATION: 2818 Violet Road  Goshen IN 46526
GEO:41.5478278;-85.8345038
END:VEVENT
END:VCALENDAR