BEGIN:VCALENDAR
VERSION:2.0
PRODID:-//Tukios.com/
BEGIN:VEVENT
UID:35449795-50f7-4572-970f-f003e6aa101c@www.yoderculpfuneralhome.com
DTSTAMP:20260425T235451Z
DTSTART:20260429T180000Z
DTEND:20260429T190000Z
SUMMARY:Funeral Service
DESCRIPTION:
URL:https://www.yoderculpfuneralhome.com/obituaries/reginald-blackmer
LOCATION:New Paris Church of the Nazarene 67136 Indiana 15  New Paris IN 
	46553
GEO:41.5204351;-85.8278874
END:VEVENT
END:VCALENDAR