BEGIN:VCALENDAR
VERSION:2.0
PRODID:-//Tukios.com/
BEGIN:VEVENT
UID:17059d16-8536-43a1-bf72-2d32b05753cf@www.yoderculpfuneralhome.com
DTSTAMP:20260425T235725Z
DTSTART:20260429T160000Z
DTEND:20260429T180000Z
SUMMARY:Visitation
DESCRIPTION:
URL:https://www.yoderculpfuneralhome.com/obituaries/reginald-blackmer
LOCATION:New Paris Church of the Nazarene 67136 Indiana 15  New Paris IN 
	46553
GEO:41.5204351;-85.8278874
END:VEVENT
END:VCALENDAR