BEGIN:VCALENDAR
VERSION:2.0
PRODID:-//Tukios.com/
BEGIN:VEVENT
UID:b5c0966c-4ddf-47a3-8db2-1eb2a146dabe@www.yoderculpfuneralhome.com
DTSTAMP:20260419T200139Z
DTSTART:20260516T040000Z
DTEND:20260516T050000Z
SUMMARY:Memorial Service
DESCRIPTION:
URL:https://www.yoderculpfuneralhome.com/obituaries/martini-janz
LOCATION:Silverwood Mennonite Church 1745 W Lincoln Ave  Goshin IN 46526
GEO:41.5870154;-85.8599843
END:VEVENT
END:VCALENDAR