BEGIN:VCALENDAR
VERSION:2.0
PRODID:-//Tukios.com/
BEGIN:VEVENT
UID:fa4d6adf-f84e-49c0-b54c-f7abd044dbe3@www.yoderculpfuneralhome.com
DTSTAMP:20260425T181849Z
DTSTART:20260501T140000Z
DTEND:20260501T150000Z
SUMMARY:Visitation
DESCRIPTION:
URL:https://www.yoderculpfuneralhome.com/obituaries/gabriela-moore
LOCATION: 58512 Old County Road 17  Goshen IN 46528
GEO:41.6446292;-85.8913905
END:VEVENT
END:VCALENDAR