BEGIN:VCALENDAR
VERSION:2.0
PRODID:-//Tukios.com/
BEGIN:VEVENT
UID:a9481bd4-b0a2-4a9d-b690-e0fa5cced9a5@www.yoderculpfuneralhome.com
DTSTAMP:20260425T181000Z
DTSTART:20260501T150000Z
DTEND:20260501T160000Z
SUMMARY:Funeral Service
DESCRIPTION:
URL:https://www.yoderculpfuneralhome.com/obituaries/gabriela-moore
LOCATION:Sugar Grove Church 58512 Old County Road 17  Goshen IN 46528
GEO:41.6446292;-85.8913905
END:VEVENT
END:VCALENDAR