BEGIN:VCALENDAR
VERSION:2.0
PRODID:-//Tukios.com/
BEGIN:VEVENT
UID:e444910d-85e0-4d04-a7c7-cf844153a653@www.yoderculpfuneralhome.com
DTSTAMP:20260425T181000Z
DTSTART:20260430T220000Z
DTEND:20260501T000000Z
SUMMARY:Visitation
DESCRIPTION:
URL:https://www.yoderculpfuneralhome.com/obituaries/gabriela-moore
LOCATION:Sugar Grove Church 58512 Old County Road 17  Goshen IN 46528
GEO:41.6446292;-85.8913905
END:VEVENT
END:VCALENDAR