BEGIN:VCALENDAR
VERSION:2.0
PRODID:-//Tukios.com/
BEGIN:VEVENT
UID:7dc6d6c4-a7a8-4a51-8d64-adb276ff06a1@www.yoderculpfuneralhome.com
DTSTAMP:20260425T181143Z
DTSTART:20260430T180000Z
DTEND:20260430T200000Z
SUMMARY:Visitation
DESCRIPTION:
URL:https://www.yoderculpfuneralhome.com/obituaries/gabriela-moore
LOCATION:Sugar Grove Church 58512 Old County Road 17  Goshen IN 46528
GEO:41.6446292;-85.8913905
END:VEVENT
END:VCALENDAR