BEGIN:VCALENDAR
VERSION:2.0
PRODID:-//Tukios.com/
BEGIN:VEVENT
UID:c029a609-3b3e-4741-b6f0-811155194feb@www.yoderculpfuneralhome.com
DTSTAMP:20260420T205648Z
DTSTART:20260423T140000Z
DTEND:20260423T150000Z
SUMMARY:Graveside Service
DESCRIPTION:
URL:https://www.yoderculpfuneralhome.com/obituaries/dennis-roberts
LOCATION:Prairie Street Cemetery 301 East Hively Avenue  Elkhart IN 46516
GEO:41.6581637;-85.9622706
END:VEVENT
END:VCALENDAR